BEGIN:VCALENDAR
VERSION:2.0
PRODID:-//Dik en Pier - ECPv6.15.20//NONSGML v1.0//EN
CALSCALE:GREGORIAN
METHOD:PUBLISH
X-WR-CALNAME:Dik en Pier
X-ORIGINAL-URL:https://dikenpier.nl
X-WR-CALDESC:Evenementen voor Dik en Pier
REFRESH-INTERVAL;VALUE=DURATION:PT1H
X-Robots-Tag:noindex
X-PUBLISHED-TTL:PT1H
BEGIN:VTIMEZONE
TZID:UTC
BEGIN:STANDARD
TZOFFSETFROM:+0000
TZOFFSETTO:+0000
TZNAME:UTC
DTSTART:20250101T000000
END:STANDARD
END:VTIMEZONE
BEGIN:VEVENT
DTSTART;TZID=UTC:20260530T080000
DTEND;TZID=UTC:20260530T170000
DTSTAMP:20260421T102027
CREATED:20260421T101241Z
LAST-MODIFIED:20260421T101430Z
UID:1625-1780128000-1780160400@dikenpier.nl
SUMMARY:DIK EN PIER - VRIENDEN DOOR DIK EN DUN - NIJMEGEN
DESCRIPTION:Feest ter ere van 50 jaar café De Plak.
URL:https://dikenpier.nl/event/dik-en-pier-vrienden-door-dik-en-dun-nijmegen/
LOCATION:Goffertpark Nijmegen
CATEGORIES:Vrije voorstelling
END:VEVENT
BEGIN:VEVENT
DTSTART;TZID=UTC:20260605T080000
DTEND;TZID=UTC:20260605T170000
DTSTAMP:20260421T102027
CREATED:20260421T101353Z
LAST-MODIFIED:20260421T101622Z
UID:1627-1780646400-1780678800@dikenpier.nl
SUMMARY:DIK EN PIER - VRIENDEN DOOR DIK EN DUN - HOOTCHIE KOE
DESCRIPTION:Festival
URL:https://dikenpier.nl/event/dik-en-pier-vrienden-door-dik-en-dun-hootchie-koe/
LOCATION:Hootchie Koe festival\, Varsseveld
CATEGORIES:Vrije voorstelling
END:VEVENT
BEGIN:VEVENT
DTSTART;TZID=UTC:20260719T080000
DTEND;TZID=UTC:20260719T170000
DTSTAMP:20260421T102027
CREATED:20260421T101517Z
LAST-MODIFIED:20260421T101609Z
UID:1630-1784448000-1784480400@dikenpier.nl
SUMMARY:DIK EN PIER - VRIENDEN DOOR DIK EN DUN - ZWARTE CROSS
DESCRIPTION:Festival
URL:https://dikenpier.nl/event/dik-en-pier-vrienden-door-dik-en-dun-zwarte-cross/
LOCATION:Zwarte Cross\, Lichtenvoorde
CATEGORIES:Vrije voorstelling
END:VEVENT
BEGIN:VEVENT
DTSTART;TZID=UTC:20270124T150000
DTEND;TZID=UTC:20270124T160000
DTSTAMP:20260421T102027
CREATED:20260205T142532Z
LAST-MODIFIED:20260205T142601Z
UID:1614-1800802800-1800806400@dikenpier.nl
SUMMARY:DIK EN PIER DOEN DON QUICHOT - Premiere Nijmegen
DESCRIPTION:
URL:https://dikenpier.nl/event/dik-en-pier-doen-don-quichot-premiere/
LOCATION:De Lindenberg\, Nijmegen\, Nederland
CATEGORIES:Vrije voorstelling
END:VEVENT
BEGIN:VEVENT
DTSTART;TZID=UTC:20270314T140000
DTEND;TZID=UTC:20270314T150000
DTSTAMP:20260421T102027
CREATED:20260205T142710Z
LAST-MODIFIED:20260205T142748Z
UID:1617-1805032800-1805036400@dikenpier.nl
SUMMARY:DIK EN PIER DOEN DON QUICHOT - Oosterhout (nmgn)
DESCRIPTION:
URL:https://dikenpier.nl/event/dik-en-pier-doen-don-quichot-oosterhout-nmgn/
LOCATION:Theater de Klif\, Nijmegen\, Nederland
CATEGORIES:Vrije voorstelling
END:VEVENT
END:VCALENDAR